BEGIN:VCALENDAR
VERSION:2.0
PRODID:-//North Dakota Recreation &amp; Park Association - ECPv6.15.17//NONSGML v1.0//EN
CALSCALE:GREGORIAN
METHOD:PUBLISH
X-ORIGINAL-URL:https://ndrpa.com
X-WR-CALDESC:Events for North Dakota Recreation &amp; Park Association
REFRESH-INTERVAL;VALUE=DURATION:PT1H
X-Robots-Tag:noindex
X-PUBLISHED-TTL:PT1H
BEGIN:VTIMEZONE
TZID:America/Chicago
BEGIN:DAYLIGHT
TZOFFSETFROM:-0600
TZOFFSETTO:-0500
TZNAME:CDT
DTSTART:20200308T080000
END:DAYLIGHT
BEGIN:STANDARD
TZOFFSETFROM:-0500
TZOFFSETTO:-0600
TZNAME:CST
DTSTART:20201101T070000
END:STANDARD
BEGIN:DAYLIGHT
TZOFFSETFROM:-0600
TZOFFSETTO:-0500
TZNAME:CDT
DTSTART:20210314T080000
END:DAYLIGHT
BEGIN:STANDARD
TZOFFSETFROM:-0500
TZOFFSETTO:-0600
TZNAME:CST
DTSTART:20211107T070000
END:STANDARD
BEGIN:DAYLIGHT
TZOFFSETFROM:-0600
TZOFFSETTO:-0500
TZNAME:CDT
DTSTART:20220313T080000
END:DAYLIGHT
BEGIN:STANDARD
TZOFFSETFROM:-0500
TZOFFSETTO:-0600
TZNAME:CST
DTSTART:20221106T070000
END:STANDARD
END:VTIMEZONE
BEGIN:VEVENT
DTSTART;VALUE=DATE:20210407
DTEND;VALUE=DATE:20210409
DTSTAMP:20260420T053422
CREATED:20210210T143756Z
LAST-MODIFIED:20210326T133828Z
UID:10000090-1617753600-1617926399@ndrpa.com
SUMMARY:2021 NDRPA Member Meeting
DESCRIPTION:Location: Jamestown\, ND \nNDRPA is excited to host the 2021 Member Meeting April 7-8 in Jamestown. Tours of Two Rivers Activity Center (TRAC)\, the 2019 Golden Egg Award recipient\, and the University of Jamestown’s Harold Newman Arena are planned\, along with time for networking and some great education. \nDownload the Member Meeting schedule for more details. \nAccommodations: A block of rooms has been reserved at the Quality Inn & Suites under “NDRPA” for April 7.  The rooms are available at $67.99 (king) and $72.99 (double queens).  Call 701-252-3611 to make a reservation by March 24.                                    \nRegistration is now closed. If you need help with accommodations or have questions\, please contact us at ndrpaoffice@gmail.com. \n                                                                                                                             
URL:https://ndrpa.com/event/2021-member-meeting/
LOCATION:Quality Inn & Suites Conference Center\, 507 25th St SW\, Jamestown\, ND\, 58401\, United States
END:VEVENT
END:VCALENDAR